BEGIN:VCALENDAR
PRODID:-//Compnay Inc//Product Application//EN
VERSION:2.0
METHOD:PUBLISH
BEGIN:VEVENT
DTSTART:20150523T220000Z
DTEND:20150524T215900Z
DTSTAMP:20260419T153139Z
UID:1f3dc128-bc69-49eb-9d16-9aec9aa17c83
CREATED:20260419T153139Z
DESCRIPTION:https://www.oldtimerweb.nl/oldtimer-evenementen/weerter-oldtimerboulevard-2015_6910.aspx
LAST-MODIFIED:20260419T153139Z
LOCATION:Bassin 9/10\, 6001GZ Weert\, NL
SEQUENCE:0
STATUS:CONFIRMED
SUMMARY:Weerter Oldtimerboulevard 2015
TRANSP:OPAQUE
END:VEVENT
END:VCALENDAR
