BEGIN:VCALENDAR
PRODID:-//Compnay Inc//Product Application//EN
VERSION:2.0
METHOD:PUBLISH
BEGIN:VEVENT
DTSTART:20150228T230000Z
DTEND:20150301T225900Z
DTSTAMP:20260422T105359Z
UID:67803cc0-5748-4237-8dbe-ac4e2fc97a8e
CREATED:20260422T105359Z
DESCRIPTION:https://www.oldtimerweb.nl/oldtimer-evenementen/osl-nachtrit-2015_6605.aspx
LAST-MODIFIED:20260422T105359Z
LOCATION:Dorine Verschureplein\, 6181DV Elsloo\, NL
SEQUENCE:0
STATUS:CONFIRMED
SUMMARY:OSL Nachtrit 2015
TRANSP:OPAQUE
END:VEVENT
END:VCALENDAR
