BEGIN:VCALENDAR
PRODID:-//Compnay Inc//Product Application//EN
VERSION:2.0
METHOD:PUBLISH
BEGIN:VEVENT
DTSTART:20130831T220000Z
DTEND:20130901T215900Z
DTSTAMP:20260424T102210Z
UID:e3528fd2-f024-4668-a224-1ee428c6257a
CREATED:20260424T102210Z
DESCRIPTION:https://www.oldtimerweb.nl/oldtimer-evenementen/internationaal-classic-usa-car-treffen_4938.aspx
LAST-MODIFIED:20260424T102210Z
LOCATION:Reuver\, NL
SEQUENCE:0
STATUS:CONFIRMED
SUMMARY:Internationaal Classic USA Car Treffen
TRANSP:OPAQUE
END:VEVENT
END:VCALENDAR
