BEGIN:VCALENDAR
PRODID:-//Compnay Inc//Product Application//EN
VERSION:2.0
METHOD:PUBLISH
BEGIN:VEVENT
DTSTART:20121214T230000Z
DTEND:20121215T225900Z
DTSTAMP:20260423T084659Z
UID:719fb303-6d5a-4e15-bca3-d912cb37c51d
CREATED:20260423T084659Z
DESCRIPTION:https://www.oldtimerweb.nl/oldtimer-evenementen/vehikel-oldtimermarkt_4706.aspx
LAST-MODIFIED:20260423T084659Z
LOCATION:Rosmalen\, NL
SEQUENCE:0
STATUS:CONFIRMED
SUMMARY:Vehikel Oldtimermarkt
TRANSP:OPAQUE
END:VEVENT
END:VCALENDAR
