BEGIN:VCALENDAR
PRODID:-//Compnay Inc//Product Application//EN
VERSION:2.0
METHOD:PUBLISH
BEGIN:VEVENT
DTSTART:20121215T230000Z
DTEND:20121216T225900Z
DTSTAMP:20260423T084659Z
UID:a88b28ca-9256-40e9-bab6-0bf82efbf8ea
CREATED:20260423T084659Z
DESCRIPTION:https://www.oldtimerweb.nl/oldtimer-evenementen/vehikel-oldtimermarkt_4705.aspx
LAST-MODIFIED:20260423T084659Z
LOCATION:Rosmalen\, NL
SEQUENCE:0
STATUS:CONFIRMED
SUMMARY:Vehikel Oldtimermarkt
TRANSP:OPAQUE
END:VEVENT
END:VCALENDAR
