BEGIN:VCALENDAR
PRODID:-//Compnay Inc//Product Application//EN
VERSION:2.0
METHOD:PUBLISH
BEGIN:VEVENT
DTSTART:20120929T220000Z
DTEND:20120930T215900Z
DTSTAMP:20260423T084613Z
UID:c04762de-3f63-4182-a35b-7ac81093ee55
CREATED:20260423T084613Z
DESCRIPTION:https://www.oldtimerweb.nl/oldtimer-evenementen/nationaal-oldtimer-festival_4591.aspx
LAST-MODIFIED:20260423T084613Z
LOCATION:Zandvoort\, NL
SEQUENCE:0
STATUS:CONFIRMED
SUMMARY:Nationaal oldtimer festival
TRANSP:OPAQUE
END:VEVENT
END:VCALENDAR
