BEGIN:VCALENDAR
PRODID:-//Compnay Inc//Product Application//EN
VERSION:2.0
METHOD:PUBLISH
BEGIN:VEVENT
DTSTART:20120901T220000Z
DTEND:20120902T215900Z
DTSTAMP:20260422T084615Z
UID:d22a6360-ecd6-4b3d-ace5-b4b61f2ee7d6
CREATED:20260422T084615Z
DESCRIPTION:https://www.oldtimerweb.nl/oldtimer-evenementen/noordwijk-mini-marathon_4510.aspx
LAST-MODIFIED:20260422T084615Z
LOCATION:Noordwijk aan Zee\, NL
SEQUENCE:0
STATUS:CONFIRMED
SUMMARY:Noordwijk Mini Marathon
TRANSP:OPAQUE
END:VEVENT
END:VCALENDAR
