BEGIN:VCALENDAR
PRODID:-//Compnay Inc//Product Application//EN
VERSION:2.0
METHOD:PUBLISH
BEGIN:VEVENT
DTSTART:20121006T220000Z
DTEND:20121007T215900Z
DTSTAMP:20260423T102735Z
UID:e8d5e241-1dfb-43b2-af63-b235520fd9a3
CREATED:20260423T102735Z
DESCRIPTION:https://www.oldtimerweb.nl/oldtimer-evenementen/classic-ford-event-2012_4488.aspx
LAST-MODIFIED:20260423T102735Z
LOCATION:Venlo\, NL
SEQUENCE:0
STATUS:CONFIRMED
SUMMARY:Classic Ford Event 2012
TRANSP:OPAQUE
END:VEVENT
END:VCALENDAR
