BEGIN:VCALENDAR
PRODID:-//Compnay Inc//Product Application//EN
VERSION:2.0
METHOD:PUBLISH
BEGIN:VEVENT
DTSTART:20120922T220000Z
DTEND:20120923T215900Z
DTSTAMP:20260423T084659Z
UID:2e11adfa-adb9-4e89-a57d-97a45ff5f8c1
CREATED:20260423T084659Z
DESCRIPTION:https://www.oldtimerweb.nl/oldtimer-evenementen/jaarlijkse-chrysler-classic-cars-meeting_4485.aspx
LAST-MODIFIED:20260423T084659Z
LOCATION:Dintelmond-Heijningen\, NL
SEQUENCE:0
STATUS:CONFIRMED
SUMMARY:Jaarlijkse Chrysler Classic Cars Meeting
TRANSP:OPAQUE
END:VEVENT
END:VCALENDAR
