BEGIN:VCALENDAR
PRODID:-//Compnay Inc//Product Application//EN
VERSION:2.0
METHOD:PUBLISH
BEGIN:VEVENT
DTSTART:20120823T220000Z
DTEND:20120824T215900Z
DTSTAMP:20260422T085554Z
UID:379b09ec-ab9a-4803-864c-08e98840027b
CREATED:20260422T085554Z
DESCRIPTION:https://www.oldtimerweb.nl/oldtimer-evenementen/17e-internationale-ford-capri-meeting_4448.aspx
LAST-MODIFIED:20260422T085554Z
LOCATION:Doesburg\, NL
SEQUENCE:0
STATUS:CONFIRMED
SUMMARY:17e internationale Ford Capri meeting
TRANSP:OPAQUE
END:VEVENT
END:VCALENDAR
