BEGIN:VCALENDAR
PRODID:-//Compnay Inc//Product Application//EN
VERSION:2.0
METHOD:PUBLISH
BEGIN:VEVENT
DTSTART:20120706T220000Z
DTEND:20120707T215900Z
DTSTAMP:20260421T143558Z
UID:b1b52d60-9642-4030-8afd-79578c4d70a8
CREATED:20260421T143558Z
DESCRIPTION:https://www.oldtimerweb.nl/oldtimer-evenementen/oldtimerfestival-horst_4373.aspx
LAST-MODIFIED:20260421T143558Z
LOCATION:Horst aan de Maas\, NL
SEQUENCE:0
STATUS:CONFIRMED
SUMMARY:Oldtimerfestival Horst
TRANSP:OPAQUE
END:VEVENT
END:VCALENDAR
