BEGIN:VCALENDAR
PRODID:-//Compnay Inc//Product Application//EN
VERSION:2.0
METHOD:PUBLISH
BEGIN:VEVENT
DTSTART:20120915T220000Z
DTEND:20120916T215900Z
DTSTAMP:20260423T102734Z
UID:8583be31-436f-45b0-bdfd-257c1f279c6d
CREATED:20260423T102734Z
DESCRIPTION:https://www.oldtimerweb.nl/oldtimer-evenementen/bromfiets-oldtimerbeurs_4367.aspx
LAST-MODIFIED:20260423T102734Z
LOCATION:Drunen\, NL
SEQUENCE:0
STATUS:CONFIRMED
SUMMARY:Bromfiets oldtimerbeurs
TRANSP:OPAQUE
END:VEVENT
END:VCALENDAR
