BEGIN:VCALENDAR
PRODID:-//Compnay Inc//Product Application//EN
VERSION:2.0
METHOD:PUBLISH
BEGIN:VEVENT
DTSTART:20120907T220000Z
DTEND:20120908T215900Z
DTSTAMP:20260423T102650Z
UID:bb8b8de9-3de3-460e-af4d-31bc8564dfd0
CREATED:20260423T102650Z
DESCRIPTION:https://www.oldtimerweb.nl/oldtimer-evenementen/oldtimerdag-de-bilt_4366.aspx
LAST-MODIFIED:20260423T102650Z
LOCATION:De Bilt\, NL
SEQUENCE:0
STATUS:CONFIRMED
SUMMARY:Oldtimerdag De Bilt
TRANSP:OPAQUE
END:VEVENT
END:VCALENDAR
