BEGIN:VCALENDAR
PRODID:-//Compnay Inc//Product Application//EN
VERSION:2.0
METHOD:PUBLISH
BEGIN:VEVENT
DTSTART:20120721T220000Z
DTEND:20120722T215900Z
DTSTAMP:20260422T105359Z
UID:417ff948-bb8c-4fb7-8c7c-3ce052b2dfd5
CREATED:20260422T105359Z
DESCRIPTION:https://www.oldtimerweb.nl/oldtimer-evenementen/wvoc-vakantierit_4355.aspx
LAST-MODIFIED:20260422T105359Z
LOCATION:Eede\, NL
SEQUENCE:0
STATUS:CONFIRMED
SUMMARY:WVOC - Vakantierit
TRANSP:OPAQUE
END:VEVENT
END:VCALENDAR
