BEGIN:VCALENDAR
PRODID:-//Compnay Inc//Product Application//EN
VERSION:2.0
METHOD:PUBLISH
BEGIN:VEVENT
DTSTART:20120616T220000Z
DTEND:20120617T215900Z
DTSTAMP:20260422T102723Z
UID:e4f311ed-efd1-46b6-91f4-1b0a0456a4c2
CREATED:20260422T102723Z
DESCRIPTION:https://www.oldtimerweb.nl/oldtimer-evenementen/oldtimer-bromfietsbeurs_4332.aspx
LAST-MODIFIED:20260422T102723Z
LOCATION:Schiedam\, NL
SEQUENCE:0
STATUS:CONFIRMED
SUMMARY:Oldtimer bromfietsbeurs
TRANSP:OPAQUE
END:VEVENT
END:VCALENDAR
