BEGIN:VCALENDAR
PRODID:-//Compnay Inc//Product Application//EN
VERSION:2.0
METHOD:PUBLISH
BEGIN:VEVENT
DTSTART:20120622T220000Z
DTEND:20120623T215900Z
DTSTAMP:20260423T102649Z
UID:70a9f798-445b-4b15-ac26-c27ed5bdc8c1
CREATED:20260423T102649Z
DESCRIPTION:https://www.oldtimerweb.nl/oldtimer-evenementen/walcherse-oldtimerrit_4267.aspx
LAST-MODIFIED:20260423T102649Z
LOCATION:Vlissingen\, NL
SEQUENCE:0
STATUS:CONFIRMED
SUMMARY:Walcherse Oldtimerrit
TRANSP:OPAQUE
END:VEVENT
END:VCALENDAR
