BEGIN:VCALENDAR
PRODID:-//Compnay Inc//Product Application//EN
VERSION:2.0
METHOD:PUBLISH
BEGIN:VEVENT
DTSTART:20120602T220000Z
DTEND:20120603T215900Z
DTSTAMP:20260422T105741Z
UID:70bbc38f-ab33-4d25-bf17-ac9b400d7228
CREATED:20260422T105741Z
DESCRIPTION:https://www.oldtimerweb.nl/oldtimer-evenementen/oldtimertreffen-galder_4219.aspx
LAST-MODIFIED:20260422T105741Z
LOCATION:Alphen Chaam\, NL
SEQUENCE:0
STATUS:CONFIRMED
SUMMARY:Oldtimertreffen Galder
TRANSP:OPAQUE
END:VEVENT
END:VCALENDAR
