BEGIN:VCALENDAR
PRODID:-//Compnay Inc//Product Application//EN
VERSION:2.0
METHOD:PUBLISH
BEGIN:VEVENT
DTSTART:20120519T220000Z
DTEND:20120520T215900Z
DTSTAMP:20260422T085637Z
UID:30495d73-f351-408a-a876-97b21e510c0b
CREATED:20260422T085637Z
DESCRIPTION:https://www.oldtimerweb.nl/oldtimer-evenementen/mustang-valley_4213.aspx
LAST-MODIFIED:20260422T085637Z
LOCATION:Capelle a/d IJssel\, NL
SEQUENCE:0
STATUS:CONFIRMED
SUMMARY:Mustang Valley
TRANSP:OPAQUE
END:VEVENT
END:VCALENDAR
