BEGIN:VCALENDAR
PRODID:-//Compnay Inc//Product Application//EN
VERSION:2.0
METHOD:PUBLISH
BEGIN:VEVENT
DTSTART:20120504T220000Z
DTEND:20120505T215900Z
DTSTAMP:20260423T102736Z
UID:2b0fdf3f-4ce4-4073-82d1-7c523bacf69d
CREATED:20260423T102736Z
DESCRIPTION:https://www.oldtimerweb.nl/oldtimer-evenementen/citromobile_4059.aspx
LAST-MODIFIED:20260423T102736Z
LOCATION:Vijfhuizen-Haarlem\, NL
SEQUENCE:0
STATUS:CONFIRMED
SUMMARY:CitroMobile
TRANSP:OPAQUE
END:VEVENT
END:VCALENDAR
