BEGIN:VCALENDAR
PRODID:-//Compnay Inc//Product Application//EN
VERSION:2.0
METHOD:PUBLISH
BEGIN:VEVENT
DTSTART:20120527T220000Z
DTEND:20120528T215900Z
DTSTAMP:20260423T102651Z
UID:9cb30116-b677-4276-840d-a1c792c29f56
CREATED:20260423T102651Z
DESCRIPTION:https://www.oldtimerweb.nl/oldtimer-evenementen/internationale-stationaire-motoren-show_4057.aspx
LAST-MODIFIED:20260423T102651Z
LOCATION:Nuenen\, NL
SEQUENCE:0
STATUS:CONFIRMED
SUMMARY:Internationale stationaire motoren show
TRANSP:OPAQUE
END:VEVENT
END:VCALENDAR
