BEGIN:VCALENDAR
PRODID:-//Compnay Inc//Product Application//EN
VERSION:2.0
METHOD:PUBLISH
BEGIN:VEVENT
DTSTART:20120526T220000Z
DTEND:20120527T215900Z
DTSTAMP:20260423T102737Z
UID:d1818050-255f-40a0-a063-d1dc92a636fb
CREATED:20260423T102737Z
DESCRIPTION:https://www.oldtimerweb.nl/oldtimer-evenementen/internationale-stationaire-motoren-show_4056.aspx
LAST-MODIFIED:20260423T102737Z
LOCATION:Nuenen\, NL
SEQUENCE:0
STATUS:CONFIRMED
SUMMARY:Internationale stationaire motoren show
TRANSP:OPAQUE
END:VEVENT
END:VCALENDAR
