BEGIN:VCALENDAR
PRODID:-//Compnay Inc//Product Application//EN
VERSION:2.0
METHOD:PUBLISH
BEGIN:VEVENT
DTSTART:20120421T220000Z
DTEND:20120422T215900Z
DTSTAMP:20260422T085717Z
UID:ce49ff5b-0178-4a8b-8eb3-2032015c3f61
CREATED:20260422T085717Z
DESCRIPTION:https://www.oldtimerweb.nl/oldtimer-evenementen/bollenrit-rotaryclub-rijnwoude_4033.aspx
LAST-MODIFIED:20260422T085717Z
LOCATION:Rijnwoude\, NL
SEQUENCE:0
STATUS:CONFIRMED
SUMMARY:Bollenrit Rotaryclub Rijnwoude
TRANSP:OPAQUE
END:VEVENT
END:VCALENDAR
