BEGIN:VCALENDAR
PRODID:-//Compnay Inc//Product Application//EN
VERSION:2.0
METHOD:PUBLISH
BEGIN:VEVENT
DTSTART:20120329T220000Z
DTEND:20120330T215900Z
DTSTAMP:20260422T104310Z
UID:d59107dd-6f73-4ba3-a3f1-0b878621bc4f
CREATED:20260422T104310Z
DESCRIPTION:https://www.oldtimerweb.nl/oldtimer-evenementen/sport-car-spring-rally_3992.aspx
LAST-MODIFIED:20260422T104310Z
LOCATION:Maastricht\, NL
SEQUENCE:0
STATUS:CONFIRMED
SUMMARY:Sport Car Spring Rally
TRANSP:OPAQUE
END:VEVENT
END:VCALENDAR
