BEGIN:VCALENDAR
PRODID:-//Compnay Inc//Product Application//EN
VERSION:2.0
METHOD:PUBLISH
BEGIN:VEVENT
DTSTART:20120204T230000Z
DTEND:20120205T225900Z
DTSTAMP:20260423T084612Z
UID:864607a2-b022-4d3b-a3d2-1d481b7f304b
CREATED:20260423T084612Z
DESCRIPTION:https://www.oldtimerweb.nl/oldtimer-evenementen/oldtimerbeurs-film-en-special-cars_3917.aspx
LAST-MODIFIED:20260423T084612Z
LOCATION:Rosmalen\, NL
SEQUENCE:0
STATUS:CONFIRMED
SUMMARY:Oldtimerbeurs - film en special cars
TRANSP:OPAQUE
END:VEVENT
END:VCALENDAR
