BEGIN:VCALENDAR
PRODID:-//Compnay Inc//Product Application//EN
VERSION:2.0
METHOD:PUBLISH
BEGIN:VEVENT
DTSTART:20260814T220000Z
DTEND:20260815T215900Z
DTSTAMP:20260426T000226Z
UID:67f7e83a-54e7-4048-8c4d-4f7b98af2106
CREATED:20260426T000226Z
DESCRIPTION:https://www.oldtimerweb.nl/oldtimer-evenementen/veluwerit_20843.aspx
LAST-MODIFIED:20260426T000226Z
LOCATION:Karel de Groteplein 1\, 7415 DH Deventer\, NL
SEQUENCE:0
STATUS:CONFIRMED
SUMMARY:Veluwerit
TRANSP:OPAQUE
END:VEVENT
END:VCALENDAR
