BEGIN:VCALENDAR
PRODID:-//Compnay Inc//Product Application//EN
VERSION:2.0
METHOD:PUBLISH
BEGIN:VEVENT
DTSTART:20260703T220000Z
DTEND:20260704T215900Z
DTSTAMP:20260425T235537Z
UID:ba92d443-ce04-4f90-a3ef-9e90da34bb19
CREATED:20260425T235537Z
DESCRIPTION:https://www.oldtimerweb.nl/oldtimer-evenementen/oldtimer-festival-huizen_20842.aspx
LAST-MODIFIED:20260425T235537Z
LOCATION:Havenstraat 76\, 1271 AG Huizen\, NL
SEQUENCE:0
STATUS:CONFIRMED
SUMMARY:Oldtimer Festival Huizen
TRANSP:OPAQUE
END:VEVENT
END:VCALENDAR
