BEGIN:VCALENDAR
PRODID:-//Compnay Inc//Product Application//EN
VERSION:2.0
METHOD:PUBLISH
BEGIN:VEVENT
DTSTART:20260806T220000Z
DTEND:20260807T215900Z
DTSTAMP:20260426T000357Z
UID:4cde5ecd-c87d-4b00-b71b-edfed36d9d62
CREATED:20260426T000357Z
DESCRIPTION:https://www.oldtimerweb.nl/oldtimer-evenementen/us-car-bike-treffen-posterholt_20837.aspx
LAST-MODIFIED:20260426T000357Z
LOCATION:Vurensteeg 4\, 6061EJ Posterholt\, NL
SEQUENCE:0
STATUS:CONFIRMED
SUMMARY:US Car & Bike Treffen Posterholt
TRANSP:OPAQUE
END:VEVENT
END:VCALENDAR
