BEGIN:VCALENDAR
PRODID:-//Compnay Inc//Product Application//EN
VERSION:2.0
METHOD:PUBLISH
BEGIN:VEVENT
DTSTART:20260702T220000Z
DTEND:20260703T215900Z
DTSTAMP:20260425T235717Z
UID:00d4317f-c951-4069-9568-4e9b3c89d82a
CREATED:20260425T235717Z
DESCRIPTION:https://www.oldtimerweb.nl/oldtimer-evenementen/us-car-bike-treffen-posterhol_20836.aspx
LAST-MODIFIED:20260425T235717Z
LOCATION:Vurensteeg 4\, 6061EJ Posterholt\, NL
SEQUENCE:0
STATUS:CONFIRMED
SUMMARY:US Car & Bike treffen Posterhol
TRANSP:OPAQUE
END:VEVENT
END:VCALENDAR
