BEGIN:VCALENDAR
PRODID:-//Compnay Inc//Product Application//EN
VERSION:2.0
METHOD:PUBLISH
BEGIN:VEVENT
DTSTART:20260604T220000Z
DTEND:20260605T215900Z
DTSTAMP:20260425T235902Z
UID:7c7e7de2-565b-4493-8892-0771c85897d2
CREATED:20260425T235902Z
DESCRIPTION:https://www.oldtimerweb.nl/oldtimer-evenementen/us-car-bike-treffen-posterholt_20835.aspx
LAST-MODIFIED:20260425T235902Z
LOCATION:Vurensteeg 4\, 6061EJ Posterholt\, NL
SEQUENCE:0
STATUS:CONFIRMED
SUMMARY:US Car & Bike Treffen Posterholt
TRANSP:OPAQUE
END:VEVENT
END:VCALENDAR
