BEGIN:VCALENDAR
PRODID:-//Compnay Inc//Product Application//EN
VERSION:2.0
METHOD:PUBLISH
BEGIN:VEVENT
DTSTART:20260904T220000Z
DTEND:20260905T215900Z
DTSTAMP:20260424T111220Z
UID:7b7287e8-f471-4ac2-88bf-8d206f9c498e
CREATED:20260424T111220Z
DESCRIPTION:https://www.oldtimerweb.nl/oldtimer-evenementen/oldtimerdag-tzummarum-met-toerrit_20830.aspx
LAST-MODIFIED:20260424T111220Z
LOCATION:Buorren 73\, 8851EN Tzummarum\, NL
SEQUENCE:0
STATUS:CONFIRMED
SUMMARY:Oldtimerdag Tzummarum met toerrit
TRANSP:OPAQUE
END:VEVENT
END:VCALENDAR
