BEGIN:VCALENDAR
PRODID:-//Compnay Inc//Product Application//EN
VERSION:2.0
METHOD:PUBLISH
BEGIN:VEVENT
DTSTART:20260529T220000Z
DTEND:20260530T215900Z
DTSTAMP:20260424T110628Z
UID:6123b16e-a129-49ba-9ec4-587dc68b19f6
CREATED:20260424T110628Z
DESCRIPTION:https://www.oldtimerweb.nl/oldtimer-evenementen/rida-classic-cars-coffee_20829.aspx
LAST-MODIFIED:20260424T110628Z
LOCATION:Handelspoort 5\, 4538bn Terneuzen\, NL
SEQUENCE:0
STATUS:CONFIRMED
SUMMARY:Rida Classic Cars & Coffee
TRANSP:OPAQUE
END:VEVENT
END:VCALENDAR
