BEGIN:VCALENDAR
PRODID:-//Compnay Inc//Product Application//EN
VERSION:2.0
METHOD:PUBLISH
BEGIN:VEVENT
DTSTART:20260703T220000Z
DTEND:20260704T215900Z
DTSTAMP:20260424T004925Z
UID:ef49a6c2-9035-4f13-bd3f-a889e49345ac
CREATED:20260424T004925Z
DESCRIPTION:https://www.oldtimerweb.nl/oldtimer-evenementen/dafje-texel_20827.aspx
LAST-MODIFIED:20260424T004925Z
LOCATION:TESO-terminal\, 1781 AB Den Helder\, NL
SEQUENCE:0
STATUS:CONFIRMED
SUMMARY:Dafje Texel
TRANSP:OPAQUE
END:VEVENT
END:VCALENDAR
