BEGIN:VCALENDAR
PRODID:-//Compnay Inc//Product Application//EN
VERSION:2.0
METHOD:PUBLISH
BEGIN:VEVENT
DTSTART:20260619T220000Z
DTEND:20260620T215900Z
DTSTAMP:20260422T232701Z
UID:3ae938f4-ebae-4922-baee-f166e29b93b5
CREATED:20260422T232701Z
DESCRIPTION:https://www.oldtimerweb.nl/oldtimer-evenementen/oldtimer-festival-veenendaal_20823.aspx
LAST-MODIFIED:20260422T232701Z
LOCATION:Groeneveldselaan\, 3901 Veenendaal\, NL
SEQUENCE:0
STATUS:CONFIRMED
SUMMARY:Oldtimer Festival Veenendaal
TRANSP:OPAQUE
END:VEVENT
END:VCALENDAR
