BEGIN:VCALENDAR
PRODID:-//Compnay Inc//Product Application//EN
VERSION:2.0
METHOD:PUBLISH
BEGIN:VEVENT
DTSTART:20260513T220000Z
DTEND:20260514T215900Z
DTSTAMP:20260421T223640Z
UID:eb6025ed-8c5e-4f88-b9a1-f6666da8a6a8
CREATED:20260421T223640Z
DESCRIPTION:https://www.oldtimerweb.nl/oldtimer-evenementen/auto-puzzelrit_20807.aspx
LAST-MODIFIED:20260421T223640Z
LOCATION:Brabersweg 10\, 3261LD Mijnsheerenland\, NL
SEQUENCE:0
STATUS:CONFIRMED
SUMMARY:Auto puzzelrit
TRANSP:OPAQUE
END:VEVENT
END:VCALENDAR
