BEGIN:VCALENDAR
PRODID:-//Compnay Inc//Product Application//EN
VERSION:2.0
METHOD:PUBLISH
BEGIN:VEVENT
DTSTART:20260829T220000Z
DTEND:20260830T215900Z
DTSTAMP:20260421T223557Z
UID:ef7b724e-6996-4e93-83f9-9f254dfaaafb
CREATED:20260421T223557Z
DESCRIPTION:https://www.oldtimerweb.nl/oldtimer-evenementen/oldtimerfestival-foxhol_20806.aspx
LAST-MODIFIED:20260421T223557Z
LOCATION:Gerrit Imbosstraat 7\, 9607 PD Foxhol\, NL
SEQUENCE:0
STATUS:CONFIRMED
SUMMARY:Oldtimerfestival Foxhol
TRANSP:OPAQUE
END:VEVENT
END:VCALENDAR
