BEGIN:VCALENDAR
PRODID:-//Compnay Inc//Product Application//EN
VERSION:2.0
METHOD:PUBLISH
BEGIN:VEVENT
DTSTART:20260606T220000Z
DTEND:20260607T215900Z
DTSTAMP:20260420T233257Z
UID:6b652aff-a3c6-46c7-980b-d2d828984e2d
CREATED:20260420T233257Z
DESCRIPTION:https://www.oldtimerweb.nl/oldtimer-evenementen/mortelse-oldtimerpuzzelrit_20805.aspx
LAST-MODIFIED:20260420T233257Z
LOCATION:Oude Molenweg 12\, 5425 VR De Mortel\, NL
SEQUENCE:0
STATUS:CONFIRMED
SUMMARY:Mortelse Oldtimerpuzzelrit
TRANSP:OPAQUE
END:VEVENT
END:VCALENDAR
