BEGIN:VCALENDAR
PRODID:-//Compnay Inc//Product Application//EN
VERSION:2.0
METHOD:PUBLISH
BEGIN:VEVENT
DTSTART:20260509T220000Z
DTEND:20260510T215900Z
DTSTAMP:20260419T175433Z
UID:2e8a9310-a1e5-4d1b-8885-899ec585940e
CREATED:20260419T175433Z
DESCRIPTION:https://www.oldtimerweb.nl/oldtimer-evenementen/vooroorlogse-oldtimertocht_20797.aspx
LAST-MODIFIED:20260419T175433Z
LOCATION:Het Groen 14\, 5511 AE Knegsel\, NL
SEQUENCE:0
STATUS:CONFIRMED
SUMMARY:Vooroorlogse Oldtimertocht
TRANSP:OPAQUE
END:VEVENT
END:VCALENDAR
