BEGIN:VCALENDAR
PRODID:-//Compnay Inc//Product Application//EN
VERSION:2.0
METHOD:PUBLISH
BEGIN:VEVENT
DTSTART:20260425T220000Z
DTEND:20260426T215900Z
DTSTAMP:20260425T014226Z
UID:f9255276-0352-42e0-9668-7bcd7ce044db
CREATED:20260425T014226Z
DESCRIPTION:https://www.oldtimerweb.nl/oldtimer-evenementen/voorjaarsrit-klassiek-mechaniek-zeeland_20410.aspx
LAST-MODIFIED:20260425T014226Z
LOCATION:Tunnelpad 3\, 6616AM Hernen\, NL
SEQUENCE:0
STATUS:CONFIRMED
SUMMARY:Voorjaarsrit Klassiek Mechaniek Zeeland
TRANSP:OPAQUE
END:VEVENT
END:VCALENDAR
