BEGIN:VCALENDAR
PRODID:-//Compnay Inc//Product Application//EN
VERSION:2.0
METHOD:PUBLISH
BEGIN:VEVENT
DTSTART:20260529T220000Z
DTEND:20260530T215900Z
DTSTAMP:20260424T201619Z
UID:24869b1b-6180-47c9-8ed0-ce12b8cb99eb
CREATED:20260424T201619Z
DESCRIPTION:https://www.oldtimerweb.nl/oldtimer-evenementen/oldtimerdag-culemborg_20401.aspx
LAST-MODIFIED:20260424T201619Z
LOCATION:Beesdseweg\, 4104AW Culemborg\, NL
SEQUENCE:0
STATUS:CONFIRMED
SUMMARY:Oldtimerdag Culemborg
TRANSP:OPAQUE
END:VEVENT
END:VCALENDAR
