BEGIN:VCALENDAR
PRODID:-//Compnay Inc//Product Application//EN
VERSION:2.0
METHOD:PUBLISH
BEGIN:VEVENT
DTSTART:20261120T230000Z
DTEND:20261121T225900Z
DTSTAMP:20260425T013023Z
UID:9d6646b8-d1e5-4cd6-a452-394a4234a86d
CREATED:20260425T013023Z
DESCRIPTION:https://www.oldtimerweb.nl/oldtimer-evenementen/bromfiets-en-motorbeurs_20396.aspx
LAST-MODIFIED:20260425T013023Z
LOCATION:Griether Str. 110-120\, 47546 Kalkar\, DE
SEQUENCE:0
STATUS:CONFIRMED
SUMMARY:Bromfiets en Motorbeurs
TRANSP:OPAQUE
END:VEVENT
END:VCALENDAR
