BEGIN:VCALENDAR
PRODID:-//Compnay Inc//Product Application//EN
VERSION:2.0
METHOD:PUBLISH
BEGIN:VEVENT
DTSTART:20260523T220000Z
DTEND:20260524T215900Z
DTSTAMP:20260425T104913Z
UID:fb97669e-70c3-4ce0-9e8e-b20978149919
CREATED:20260425T104913Z
DESCRIPTION:https://www.oldtimerweb.nl/oldtimer-evenementen/maarkelse-pinksteren_20372.aspx
LAST-MODIFIED:20260425T104913Z
LOCATION:Potdijk\, 7475SL Hof van Twente\, NL
SEQUENCE:0
STATUS:CONFIRMED
SUMMARY:Maarkelse Pinksteren
TRANSP:OPAQUE
END:VEVENT
END:VCALENDAR
