BEGIN:VCALENDAR
PRODID:-//Compnay Inc//Product Application//EN
VERSION:2.0
METHOD:PUBLISH
BEGIN:VEVENT
DTSTART:20260710T220000Z
DTEND:20260711T215900Z
DTSTAMP:20260421T022056Z
UID:ef4555e9-78ec-42c5-b367-588411b005d2
CREATED:20260421T022056Z
DESCRIPTION:https://www.oldtimerweb.nl/oldtimer-evenementen/oldtimerdag-pijnacker_20371.aspx
LAST-MODIFIED:20260421T022056Z
LOCATION:Raadhuisplein 1\, 2641 DR Pijnacker\, NL
SEQUENCE:0
STATUS:CONFIRMED
SUMMARY:Oldtimerdag Pijnacker
TRANSP:OPAQUE
END:VEVENT
END:VCALENDAR
