BEGIN:VCALENDAR
PRODID:-//Compnay Inc//Product Application//EN
VERSION:2.0
METHOD:PUBLISH
BEGIN:VEVENT
DTSTART:20260911T220000Z
DTEND:20260913T215900Z
DTSTAMP:20260424T085254Z
UID:72c1f4c9-20e4-4d67-b825-64e398af01e6
CREATED:20260424T085254Z
DESCRIPTION:https://www.oldtimerweb.nl/oldtimer-evenementen/3e-renaultoloog-meeting-markt_20339.aspx
LAST-MODIFIED:20260424T085254Z
LOCATION:Patersstraat 22\, 5977NM Evertsoord\, NL
SEQUENCE:0
STATUS:CONFIRMED
SUMMARY:3e Renaultoloog Meeting & Markt
TRANSP:OPAQUE
END:VEVENT
END:VCALENDAR
