BEGIN:VCALENDAR
PRODID:-//Compnay Inc//Product Application//EN
VERSION:2.0
METHOD:PUBLISH
BEGIN:VEVENT
DTSTART:20260620T220000Z
DTEND:20260621T215900Z
DTSTAMP:20260420T150949Z
UID:c8bba3fa-e193-421f-9c13-a6f5fb444127
CREATED:20260420T150949Z
DESCRIPTION:https://www.oldtimerweb.nl/oldtimer-evenementen/oldtimerfruhschoppen_20079.aspx
LAST-MODIFIED:20260420T150949Z
LOCATION:Naborchweg 1\, 6071 PG Roermond\, NL
SEQUENCE:0
STATUS:CONFIRMED
SUMMARY:Oldtimerfruhschoppen
TRANSP:OPAQUE
END:VEVENT
END:VCALENDAR
