BEGIN:VCALENDAR
PRODID:-//Compnay Inc//Product Application//EN
VERSION:2.0
METHOD:PUBLISH
BEGIN:VEVENT
DTSTART:20260516T220000Z
DTEND:20260517T215900Z
DTSTAMP:20260422T085807Z
UID:b337d185-ff3d-480a-b9cc-e4aa82b69968
CREATED:20260422T085807Z
DESCRIPTION:https://www.oldtimerweb.nl/oldtimer-evenementen/oldtimerfruhschoppen_20078.aspx
LAST-MODIFIED:20260422T085807Z
LOCATION:Naborchweg 1\, 6071 PG Roermond\, NL
SEQUENCE:0
STATUS:CONFIRMED
SUMMARY:Oldtimerfruhschoppen
TRANSP:OPAQUE
END:VEVENT
END:VCALENDAR
