BEGIN:VCALENDAR
PRODID:-//Compnay Inc//Product Application//EN
VERSION:2.0
METHOD:PUBLISH
BEGIN:VEVENT
DTSTART:20260418T220000Z
DTEND:20260419T215900Z
DTSTAMP:20260420T151438Z
UID:da6556c8-d204-4fa6-ae9f-c648249eef28
CREATED:20260420T151438Z
DESCRIPTION:https://www.oldtimerweb.nl/oldtimer-evenementen/oldtimerfruhschoppen_20077.aspx
LAST-MODIFIED:20260420T151438Z
LOCATION:Naborchweg 1\, 6071 PG Roermond\, NL
SEQUENCE:0
STATUS:CONFIRMED
SUMMARY:Oldtimerfruhschoppen
TRANSP:OPAQUE
END:VEVENT
END:VCALENDAR
