BEGIN:VCALENDAR
PRODID:-//Compnay Inc//Product Application//EN
VERSION:2.0
METHOD:PUBLISH
BEGIN:VEVENT
DTSTART:20260829T220000Z
DTEND:20260830T215900Z
DTSTAMP:20260422T084516Z
UID:d1392f1f-166a-4a09-be69-33be955d8783
CREATED:20260422T084516Z
DESCRIPTION:https://www.oldtimerweb.nl/oldtimer-evenementen/borderline-oldtimer-grenslandrit_20076.aspx
LAST-MODIFIED:20260422T084516Z
LOCATION:5851 AA Bergen\, NL
SEQUENCE:0
STATUS:CONFIRMED
SUMMARY:Borderline Oldtimer Grenslandrit
TRANSP:OPAQUE
END:VEVENT
END:VCALENDAR
