BEGIN:VCALENDAR
PRODID:-//Compnay Inc//Product Application//EN
VERSION:2.0
METHOD:PUBLISH
BEGIN:VEVENT
DTSTART:20260606T220000Z
DTEND:20260607T215900Z
DTSTAMP:20260422T085553Z
UID:cdfe8af8-5a05-4edc-9c00-b3098b2779b5
CREATED:20260422T085553Z
DESCRIPTION:https://www.oldtimerweb.nl/oldtimer-evenementen/mk2nation_20074.aspx
LAST-MODIFIED:20260422T085553Z
LOCATION:Havendijk 14\, 4612 PJ Bergen op Zoom\, NL
SEQUENCE:0
STATUS:CONFIRMED
SUMMARY:Mk2Nation
TRANSP:OPAQUE
END:VEVENT
END:VCALENDAR
