BEGIN:VCALENDAR
PRODID:-//Compnay Inc//Product Application//EN
VERSION:2.0
METHOD:PUBLISH
BEGIN:VEVENT
DTSTART:20260711T220000Z
DTEND:20260712T215900Z
DTSTAMP:20260422T085637Z
UID:3bcfec76-e349-47af-8405-06299d0486bc
CREATED:20260422T085637Z
DESCRIPTION:https://www.oldtimerweb.nl/oldtimer-evenementen/keverdag-noord-holland_20018.aspx
LAST-MODIFIED:20260422T085637Z
LOCATION:Velserenderlaan 2\,\, 2082 LA Santpoort-Zuid\, NL
SEQUENCE:0
STATUS:CONFIRMED
SUMMARY:Keverdag Noord-Holland
TRANSP:OPAQUE
END:VEVENT
END:VCALENDAR
