BEGIN:VCALENDAR
PRODID:-//Compnay Inc//Product Application//EN
VERSION:2.0
METHOD:PUBLISH
BEGIN:VEVENT
DTSTART:20261017T220000Z
DTEND:20261018T215900Z
DTSTAMP:20260425T105409Z
UID:987f6f4d-fed8-49a2-add7-07867c04b734
CREATED:20260425T105409Z
DESCRIPTION:https://www.oldtimerweb.nl/oldtimer-evenementen/herfstrit-oldtimer-vrienden-wijchen_19974.aspx
LAST-MODIFIED:20260425T105409Z
LOCATION:Heumenseweg  192\, 6603KT Wijchen\, NL
SEQUENCE:0
STATUS:CONFIRMED
SUMMARY:Herfstrit Oldtimer Vrienden Wijchen
TRANSP:OPAQUE
END:VEVENT
END:VCALENDAR
